BEGIN:VCALENDAR
VERSION:2.0
PRODID:-//The Black Bostonian - ECPv6.15.20//NONSGML v1.0//EN
CALSCALE:GREGORIAN
METHOD:PUBLISH
X-ORIGINAL-URL:https://theblackbostonian.com
X-WR-CALDESC:Events for The Black Bostonian
REFRESH-INTERVAL;VALUE=DURATION:PT1H
X-Robots-Tag:noindex
X-PUBLISHED-TTL:PT1H
BEGIN:VTIMEZONE
TZID:UTC
BEGIN:STANDARD
TZOFFSETFROM:+0000
TZOFFSETTO:+0000
TZNAME:UTC
DTSTART:20180101T000000
END:STANDARD
END:VTIMEZONE
BEGIN:VEVENT
DTSTART;TZID=UTC:20190623T180000
DTEND;TZID=UTC:20190623T200000
DTSTAMP:20260424T030316
CREATED:20190619T205237Z
LAST-MODIFIED:20190619T205237Z
UID:1608-1561312800-1561320000@theblackbostonian.com
SUMMARY:Summer Wine Down @ The Urban Grape
DESCRIPTION:
URL:https://theblackbostonian.com/calendar/summer-wine-down-the-urban-grape/
END:VEVENT
BEGIN:VEVENT
DTSTART;TZID=UTC:20190623T163000
DTEND;TZID=UTC:20190623T220000
DTSTAMP:20260424T030316
CREATED:20190619T205053Z
LAST-MODIFIED:20190619T205053Z
UID:1605-1561307400-1561327200@theblackbostonian.com
SUMMARY:The Wave: Summer Series
DESCRIPTION:
URL:https://theblackbostonian.com/calendar/the-wave-summer-series-2/
END:VEVENT
BEGIN:VEVENT
DTSTART;TZID=UTC:20190623T130000
DTEND;TZID=UTC:20190623T180000
DTSTAMP:20260424T030316
CREATED:20190621T223827Z
LAST-MODIFIED:20190621T223827Z
UID:1633-1561294800-1561312800@theblackbostonian.com
SUMMARY:#BentBrunch
DESCRIPTION:
URL:https://theblackbostonian.com/calendar/bentbrunch-2/
END:VEVENT
BEGIN:VEVENT
DTSTART;TZID=UTC:20190622T203000
DTEND;TZID=UTC:20190622T230000
DTSTAMP:20260424T030316
CREATED:20190621T222822Z
LAST-MODIFIED:20190621T222822Z
UID:1630-1561235400-1561244400@theblackbostonian.com
SUMMARY:Volunteer & Mingle @ Kings
DESCRIPTION:
URL:https://theblackbostonian.com/calendar/volunteer-mingle-kings/
END:VEVENT
BEGIN:VEVENT
DTSTART;TZID=UTC:20190622T120000
DTEND;TZID=UTC:20190622T200000
DTSTAMP:20260424T030316
CREATED:20190621T221930Z
LAST-MODIFIED:20190621T221930Z
UID:1624-1561204800-1561233600@theblackbostonian.com
SUMMARY:BAMS FEST
DESCRIPTION:
URL:https://theblackbostonian.com/calendar/bams-fest/
END:VEVENT
BEGIN:VEVENT
DTSTART;TZID=UTC:20190622T103000
DTEND;TZID=UTC:20190622T120000
DTSTAMP:20260424T030316
CREATED:20190621T225803Z
LAST-MODIFIED:20190621T225803Z
UID:1636-1561199400-1561204800@theblackbostonian.com
SUMMARY:RoxFilm: The Green Book: Guide to Freedom
DESCRIPTION:
URL:https://theblackbostonian.com/calendar/roxfilm-the-green-book-guide-to-freedom/
END:VEVENT
BEGIN:VEVENT
DTSTART;TZID=UTC:20190621T200000
DTEND;TZID=UTC:20190622T000000
DTSTAMP:20260424T030316
CREATED:20190620T201350Z
LAST-MODIFIED:20190620T201350Z
UID:1614-1561147200-1561161600@theblackbostonian.com
SUMMARY:Black Magic Week
DESCRIPTION:
URL:https://theblackbostonian.com/calendar/black-magic-week/
END:VEVENT
BEGIN:VEVENT
DTSTART;TZID=UTC:20190620T200000
DTEND;TZID=UTC:20190620T220000
DTSTAMP:20260424T030316
CREATED:20190620T200655Z
LAST-MODIFIED:20190620T200655Z
UID:1611-1561060800-1561068000@theblackbostonian.com
SUMMARY:Serenade the City
DESCRIPTION:
URL:https://theblackbostonian.com/calendar/serenade-the-city/
END:VEVENT
BEGIN:VEVENT
DTSTART;TZID=UTC:20190619T183000
DTEND;TZID=UTC:20190619T200000
DTSTAMP:20260424T030316
CREATED:20190603T000320Z
LAST-MODIFIED:20190603T000320Z
UID:1549-1560969000-1560974400@theblackbostonian.com
SUMMARY:Black Girls Wine: A Juneteenth Celebration
DESCRIPTION:
URL:https://theblackbostonian.com/calendar/black-girls-wine-a-juneteenth-celebration/
END:VEVENT
BEGIN:VEVENT
DTSTART;TZID=UTC:20190619T170000
DTEND;TZID=UTC:20190619T220000
DTSTAMP:20260424T030316
CREATED:20190619T204536Z
LAST-MODIFIED:20190619T204536Z
UID:1598-1560963600-1560981600@theblackbostonian.com
SUMMARY:Juneteenth @ MFA
DESCRIPTION:
URL:https://theblackbostonian.com/calendar/juneteenth-mfa/
END:VEVENT
BEGIN:VEVENT
DTSTART;TZID=UTC:20190619T080000
DTEND;TZID=UTC:20190619T233000
DTSTAMP:20260424T030316
CREATED:20190619T204827Z
LAST-MODIFIED:20190619T204827Z
UID:1601-1560931200-1560987000@theblackbostonian.com
SUMMARY:Fort Hill Bar And Grill
DESCRIPTION:Fort Hill Bar & Grill\, 2805 Washington St.\, Boston\, Massachusetts \n 
URL:https://theblackbostonian.com/calendar/fort-hill-bar-and-grill/
END:VEVENT
BEGIN:VEVENT
DTSTART;TZID=UTC:20190618T180000
DTEND;TZID=UTC:20190618T200000
DTSTAMP:20260424T030316
CREATED:20190607T082541Z
LAST-MODIFIED:20190607T082541Z
UID:1568-1560880800-1560888000@theblackbostonian.com
SUMMARY:The KlockPhase Presents: On Kloud Wine
DESCRIPTION:
URL:https://theblackbostonian.com/calendar/the-klockphase-presents-on-kloud-wine/
END:VEVENT
BEGIN:VEVENT
DTSTART;TZID=UTC:20190615T190000
DTEND;TZID=UTC:20190615T213000
DTSTAMP:20260424T030316
CREATED:20190603T002709Z
LAST-MODIFIED:20190603T002732Z
UID:1558-1560625200-1560634200@theblackbostonian.com
SUMMARY:Boyz n the Hood: A Night Celebrating the Work of John Singleto
DESCRIPTION:
URL:https://theblackbostonian.com/calendar/boyz-n-the-hood-a-night-celebrating-the-work-of-john-singleto/
END:VEVENT
BEGIN:VEVENT
DTSTART;TZID=UTC:20190613T190000
DTEND;TZID=UTC:20190613T220000
DTSTAMP:20260424T030316
CREATED:20190607T095224Z
LAST-MODIFIED:20190607T095304Z
UID:1583-1560452400-1560463200@theblackbostonian.com
SUMMARY:Minds Matter: Spring Soiree
DESCRIPTION:
URL:https://theblackbostonian.com/calendar/minds-matter-spring-soiree/
END:VEVENT
BEGIN:VEVENT
DTSTART;TZID=UTC:20190613T180000
DTEND;TZID=UTC:20190613T220000
DTSTAMP:20260424T030316
CREATED:20190607T094344Z
LAST-MODIFIED:20190607T094344Z
UID:1574-1560448800-1560463200@theblackbostonian.com
SUMMARY:The Break Room After Work Mixer
DESCRIPTION:
URL:https://theblackbostonian.com/calendar/the-break-room-after-work-mixer/
END:VEVENT
BEGIN:VEVENT
DTSTART;TZID=UTC:20190609T130000
DTEND;TZID=UTC:20190609T170000
DTSTAMP:20260424T030316
CREATED:20190607T094954Z
LAST-MODIFIED:20190607T094954Z
UID:1580-1560085200-1560099600@theblackbostonian.com
SUMMARY:Brunch Like a Boss
DESCRIPTION:Join Boston’s urban young professionals and tastemakers for an afternoon of exclusive networking\, learning & building with three dynamic special guests!
URL:https://theblackbostonian.com/calendar/brunch-like-a-boss/
END:VEVENT
BEGIN:VEVENT
DTSTART;TZID=UTC:20190609T110000
DTEND;TZID=UTC:20190609T170000
DTSTAMP:20260424T030316
CREATED:20190607T093909Z
LAST-MODIFIED:20190607T093909Z
UID:1571-1560078000-1560099600@theblackbostonian.com
SUMMARY:BVD Sundays
DESCRIPTION:
URL:https://theblackbostonian.com/calendar/bvd-sundays/
END:VEVENT
BEGIN:VEVENT
DTSTART;TZID=UTC:20190608T150000
DTEND;TZID=UTC:20190608T210000
DTSTAMP:20260424T030316
CREATED:20190607T094502Z
LAST-MODIFIED:20190607T094502Z
UID:1577-1560006000-1560027600@theblackbostonian.com
SUMMARY:Game Night
DESCRIPTION:
URL:https://theblackbostonian.com/calendar/game-night/
END:VEVENT
BEGIN:VEVENT
DTSTART;TZID=UTC:20190607T193000
DTEND;TZID=UTC:20190607T233000
DTSTAMP:20260424T030316
CREATED:20190603T000712Z
LAST-MODIFIED:20190603T000712Z
UID:1552-1559935800-1559950200@theblackbostonian.com
SUMMARY:Lion Babe Concert @ Brighton Music Hall
DESCRIPTION:
URL:https://theblackbostonian.com/calendar/lion-babe-concert-brighton-music-hall/
END:VEVENT
BEGIN:VEVENT
DTSTART;TZID=UTC:20190607T170000
DTEND;TZID=UTC:20190607T213000
DTSTAMP:20260424T030316
CREATED:20190603T003041Z
LAST-MODIFIED:20190603T003041Z
UID:1561-1559926800-1559943000@theblackbostonian.com
SUMMARY:First Fridays :Island Stylin'
DESCRIPTION:
URL:https://theblackbostonian.com/calendar/first-fridays-island-stylin/
END:VEVENT
BEGIN:VEVENT
DTSTART;TZID=UTC:20190605T080000
DTEND;TZID=UTC:20190606T170000
DTSTAMP:20260424T030316
CREATED:20190628T093733Z
LAST-MODIFIED:20190628T093733Z
UID:1653-1559721600-1559840400@theblackbostonian.com
SUMMARY:Martha's Vineyard 2019
DESCRIPTION:
URL:https://theblackbostonian.com/calendar/marthas-vineyard-2019/
END:VEVENT
BEGIN:VEVENT
DTSTART;TZID=UTC:20190604T120000
DTEND;TZID=UTC:20190604T200000
DTSTAMP:20260424T030316
CREATED:20190603T002449Z
LAST-MODIFIED:20190603T002449Z
UID:1555-1559649600-1559678400@theblackbostonian.com
SUMMARY:Jimmy Fund Scooper Bowl
DESCRIPTION:  \n \nThe 37th annual Jimmy Fund Scooper Bowl®  is the nation’s largest all-you-can-eat ice cream festival\, featuring frozen treats from some of America’s most beloved ice cream vendors. Grab your spoons and join in June 4 – 6\, 2019\, at Boston’s City Hall Plaza.
URL:https://theblackbostonian.com/calendar/jimmy-fund-scooper-bowl/
END:VEVENT
BEGIN:VEVENT
DTSTART;TZID=UTC:20190529T200000
DTEND;TZID=UTC:20190529T233000
DTSTAMP:20260424T030316
CREATED:20190521T183856Z
LAST-MODIFIED:20190521T184310Z
UID:1544-1559160000-1559172600@theblackbostonian.com
SUMMARY:The KickBack Party w/ SuperSmashBroz + Yung Towfu
DESCRIPTION:The KickBack party gathers the trill in an unpretentious space to eat\, socialize\, and have a few Henny straights while vibin’ to a live DJ on a random Wednesday evening
URL:https://theblackbostonian.com/calendar/the-kickback-party-w-supersmashbroz-yung-towfu/
END:VEVENT
BEGIN:VEVENT
DTSTART;TZID=UTC:20190527T130000
DTEND;TZID=UTC:20190527T180000
DTSTAMP:20260424T030316
CREATED:20190503T233718Z
LAST-MODIFIED:20190503T233718Z
UID:1515-1558962000-1558980000@theblackbostonian.com
SUMMARY:#BentBrunch
DESCRIPTION:Things are heating up in Boston for Memorial Day this year! Boston’s most exclusive sell out brunch and day party returns and will be held at a new venue in Boston with an outdoor patio! \nYou can either enjoy brunch with specialty cocktails and/or fishbowls indoors in the establishments luxurious restaurant or outdoors on a newly renovated patio with a Bar\, Fire Pit & Live DJ’s!
URL:https://theblackbostonian.com/calendar/bentbrunch/
END:VEVENT
BEGIN:VEVENT
DTSTART;TZID=UTC:20190526T163000
DTEND;TZID=UTC:20190526T220000
DTSTAMP:20260424T030316
CREATED:20190502T073341Z
LAST-MODIFIED:20190502T073341Z
UID:1472-1558888200-1558908000@theblackbostonian.com
SUMMARY:The Wave
DESCRIPTION:SASHA MARIE & SAHAR HABIBI \nOn Sunday May 26th\, we’ll be welcoming Soulection’s Sasha Marie & Sahar Habibi to The Wave Boston with support from our own Yvng Pavl & Big Bear. This will be the official start to summer and you won’t want to miss it.
URL:https://theblackbostonian.com/calendar/the-wave/
END:VEVENT
BEGIN:VEVENT
DTSTART;TZID=UTC:20190525T220000
DTEND;TZID=UTC:20190526T010000
DTSTAMP:20260424T030316
CREATED:20190521T183603Z
LAST-MODIFIED:20190521T183603Z
UID:1541-1558821600-1558832400@theblackbostonian.com
SUMMARY:Bomba
DESCRIPTION:Enjoy the night with the best Salsa\, Bachata\, Merengue\, Cumbia\, Afrobeat\, Afrohouse\, Soca\, Reggaeton\, Latin Pop\, Dancehall and a little sprinkle of your favorite mainstream songs. This night promises to keep every body sizzling on the dance floor all night long! \n@ Bella Luna Restaurant and Milky way Lounge
URL:https://theblackbostonian.com/calendar/bomba/
END:VEVENT
BEGIN:VEVENT
DTSTART;TZID=UTC:20190519T140000
DTEND;TZID=UTC:20190519T180000
DTSTAMP:20260424T030316
CREATED:20190516T005020Z
LAST-MODIFIED:20190516T005020Z
UID:1537-1558274400-1558288800@theblackbostonian.com
SUMMARY:Graduation Day Party
DESCRIPTION:
URL:https://theblackbostonian.com/calendar/graduation-day-party/
END:VEVENT
BEGIN:VEVENT
DTSTART;TZID=UTC:20190518T223000
DTEND;TZID=UTC:20190518T233000
DTSTAMP:20260424T030316
CREATED:20190503T232846Z
LAST-MODIFIED:20190503T232846Z
UID:1512-1558218600-1558222200@theblackbostonian.com
SUMMARY:Brown Sugar "The R&B Party"
DESCRIPTION:BENT X NYA Boston presents: Brown Sugar “A R&B Fete”
URL:https://theblackbostonian.com/calendar/brown-sugar-the-rb-party/
END:VEVENT
BEGIN:VEVENT
DTSTART;TZID=UTC:20190518T120000
DTEND;TZID=UTC:20190518T180000
DTSTAMP:20260424T030316
CREATED:20190510T134837Z
LAST-MODIFIED:20190510T134837Z
UID:1527-1558180800-1558202400@theblackbostonian.com
SUMMARY:RNBae Brunch
DESCRIPTION:
URL:https://theblackbostonian.com/calendar/rnbae-brunch/
END:VEVENT
BEGIN:VEVENT
DTSTART;TZID=UTC:20190517T200000
DTEND;TZID=UTC:20190517T230000
DTSTAMP:20260424T030316
CREATED:20190502T072404Z
LAST-MODIFIED:20190502T072404Z
UID:1466-1558123200-1558134000@theblackbostonian.com
SUMMARY:Bang Bang Experience
DESCRIPTION:The Bang Bang Experience LIVE will be a night with Dutch ReBelle where fans will get to watch a live interview and interactive Q&A session with her about how her highly anticipated and successfully crowdfunded album BANG BANG was born. After\, Dutch ReBelle and special guests—including Lily Rayne —will take the stage to perform one of her most successful records from the past few years.
URL:https://theblackbostonian.com/calendar/bang-bang-experience/
END:VEVENT
END:VCALENDAR