BEGIN:VCALENDAR
VERSION:2.0
PRODID:-//The Black Bostonian - ECPv6.15.20//NONSGML v1.0//EN
CALSCALE:GREGORIAN
METHOD:PUBLISH
X-ORIGINAL-URL:https://theblackbostonian.com
X-WR-CALDESC:Events for The Black Bostonian
REFRESH-INTERVAL;VALUE=DURATION:PT1H
X-Robots-Tag:noindex
X-PUBLISHED-TTL:PT1H
BEGIN:VTIMEZONE
TZID:UTC
BEGIN:STANDARD
TZOFFSETFROM:+0000
TZOFFSETTO:+0000
TZNAME:UTC
DTSTART:20170101T000000
END:STANDARD
END:VTIMEZONE
BEGIN:VEVENT
DTSTART;TZID=UTC:20190505T140000
DTEND;TZID=UTC:20190505T180000
DTSTAMP:20260424T064725
CREATED:20190504T221230Z
LAST-MODIFIED:20190504T221230Z
UID:1518-1557064800-1557079200@theblackbostonian.com
SUMMARY:Brunch Fiesta
DESCRIPTION:
URL:https://theblackbostonian.com/calendar/brunch-fiesta/
END:VEVENT
BEGIN:VEVENT
DTSTART;TZID=UTC:20190505T120000
DTEND;TZID=UTC:20190505T220000
DTSTAMP:20260424T064725
CREATED:20190503T081518Z
LAST-MODIFIED:20190503T081518Z
UID:1493-1557057600-1557093600@theblackbostonian.com
SUMMARY:Bodega Canal Day Party
DESCRIPTION:
URL:https://theblackbostonian.com/calendar/bodega-canal-day-party/
END:VEVENT
BEGIN:VEVENT
DTSTART;TZID=UTC:20190505T120000
DTEND;TZID=UTC:20190505T170000
DTSTAMP:20260424T064725
CREATED:20190502T071510Z
LAST-MODIFIED:20190502T071510Z
UID:1460-1557057600-1557075600@theblackbostonian.com
SUMMARY:Tacos + Tequila
DESCRIPTION:FIESTA\, FIESTA at 2Twenty2 with The Social Butterflies & Pritty Ugly Media! \nGet your tickets today! \nOnly the best vibes for a special #SundayFunday with DJ Real P + JRM the DJ. \nEnjoy TACOS\, TEQUILA\, GUAC\, SALSA\, & MORE – you do NOT want to miss this celebration!
URL:https://theblackbostonian.com/calendar/tacos-tequila/
END:VEVENT
BEGIN:VEVENT
DTSTART;TZID=UTC:20190504T190000
DTEND;TZID=UTC:20190504T233000
DTSTAMP:20260424T064725
CREATED:20190502T073041Z
LAST-MODIFIED:20190502T073041Z
UID:1469-1556996400-1557012600@theblackbostonian.com
SUMMARY:Bouillon Night!
DESCRIPTION:Come out for a night of games\, music and food in support of the KOREKTHO school in Thomonde\, Haiti on May 4th at 8PM SHARP! Enjoy board and team games\, dominoes and so much more. Feel free to bring your own games as well! \nMUSIC BY DJ BIZZY + DJ GALLIS \nCASH BAR and FRITAY PLATES will be available. \n 
URL:https://theblackbostonian.com/calendar/bouillon-night/
END:VEVENT
BEGIN:VEVENT
DTSTART;TZID=UTC:20190504T120000
DTEND;TZID=UTC:20190504T120000
DTSTAMP:20260424T064725
CREATED:20190502T070814Z
LAST-MODIFIED:20190502T071227Z
UID:1457-1556971200-1556971200@theblackbostonian.com
SUMMARY:Kentucky Derby En Caribe
DESCRIPTION:Come join us at La Fabrica in Cambridge for a Caribbean-inspired Derby Day Party. Wear your freshest Kentucky Derby outfits: hats\, sundresses\, sport coats and all! \nEnjoy your favorite tropical sounds of Afrobeats\, Dancehall\, Reggaeton\, Hip-Hop\, and more as DJ Slick Vick and DJ Amero bless the turntables. \n \n  \nEvent runs from 12pm-5pm.
URL:https://theblackbostonian.com/calendar/kentucky-derby-en-caribe/
END:VEVENT
BEGIN:VEVENT
DTSTART;TZID=UTC:20190504T110000
DTEND;TZID=UTC:20190504T160000
DTSTAMP:20260424T064725
CREATED:20190503T081940Z
LAST-MODIFIED:20190503T081940Z
UID:1496-1556967600-1556985600@theblackbostonian.com
SUMMARY:Black Markets: Spring Grand Opener Block Party
DESCRIPTION:There will be over 20+ Vendors\, Music\, Food\, and Boston’s 1st Roxbury-Centric Podcast ROXSTARS will be live! \nThe Block Party Edition\nSaturday\, May 4th and Sunday\, May 5th\n11am-4pm\n2136 Washington Street; Roxbury\, MA 02119
URL:https://theblackbostonian.com/calendar/black-markets-spring-grand-opener-block-party/
END:VEVENT
BEGIN:VEVENT
DTSTART;TZID=UTC:20190503T200000
DTEND;TZID=UTC:20190503T233000
DTSTAMP:20260424T064725
CREATED:20190503T083603Z
LAST-MODIFIED:20190503T083603Z
UID:1502-1556913600-1556926200@theblackbostonian.com
SUMMARY:R&B Karaoke
DESCRIPTION:
URL:https://theblackbostonian.com/calendar/rb-karaoke/
END:VEVENT
BEGIN:VEVENT
DTSTART;TZID=UTC:20190503T170000
DTEND;TZID=UTC:20190503T213000
DTSTAMP:20260424T064725
CREATED:20190502T070341Z
LAST-MODIFIED:20190502T070515Z
UID:1454-1556902800-1556919000@theblackbostonian.com
SUMMARY:ICA First Fridays : Spring Fling
DESCRIPTION:Spring is here—dance away those winter blues and celebrate the start of spring with rosé wine spritzers\, DJ Knife\, flower crafts\, ocean views\, contemporary art\, and an Insta-worthy floral installation by Maia Mattson.
URL:https://theblackbostonian.com/calendar/ica-first-fridays-spring-fling/
END:VEVENT
BEGIN:VEVENT
DTSTART;TZID=UTC:20190420T233000
DTEND;TZID=UTC:20190421T030000
DTSTAMP:20260424T064725
CREATED:20190417T094423Z
LAST-MODIFIED:20190417T094423Z
UID:1440-1555803000-1555815600@theblackbostonian.com
SUMMARY:Flower to the People
DESCRIPTION:The Creative Zone\, a 420-friendly loft in Chinatown. The address will be released 2 hrs prior to the event to those who RSVP on Evenbrite.
URL:https://theblackbostonian.com/calendar/flower-to-the-people/
END:VEVENT
BEGIN:VEVENT
DTSTART;TZID=UTC:20190419T220000
DTEND;TZID=UTC:20190420T020000
DTSTAMP:20260424T064725
CREATED:20190417T095450Z
LAST-MODIFIED:20190417T095554Z
UID:1444-1555711200-1555725600@theblackbostonian.com
SUMMARY:CRiB : A Double Decker Ting
DESCRIPTION:
URL:https://theblackbostonian.com/calendar/crib-a-double-decker-ting/
END:VEVENT
BEGIN:VEVENT
DTSTART;TZID=UTC:20190419T220000
DTEND;TZID=UTC:20190420T020000
DTSTAMP:20260424T064725
CREATED:20190417T093524Z
LAST-MODIFIED:20190417T182531Z
UID:1426-1555711200-1555725600@theblackbostonian.com
SUMMARY:Good Friday
DESCRIPTION:GOOD Friday @ WONDER BAR COME PARTY AND ENJOY THE GOOD VIBES.\n\n\n\n\n\n\nAbout this Event\n\n\nMOTTO \nGOOD VIBES ONLY \nVIBES BY \nDJ AMERO + DJ YOUNG IVES + DJ REAL P \nVENUE \nWONDER BAR \n186 HARVARD AVE \nALLSTON\, MA 02134 \n(21+ EVENT)
URL:https://theblackbostonian.com/calendar/good-friday/
END:VEVENT
BEGIN:VEVENT
DTSTART;TZID=UTC:20190419T190000
DTEND;TZID=UTC:20190419T230000
DTSTAMP:20260424T064725
CREATED:20190417T101345Z
LAST-MODIFIED:20190417T101345Z
UID:1450-1555700400-1555714800@theblackbostonian.com
SUMMARY:Nostalgia Fridays : Keke Wyatt
DESCRIPTION:
URL:https://theblackbostonian.com/calendar/nostalgia-fridays-keke-wyatt/
END:VEVENT
BEGIN:VEVENT
DTSTART;TZID=UTC:20190418T173000
DTEND;TZID=UTC:20190418T210000
DTSTAMP:20260424T064725
CREATED:20190417T095204Z
LAST-MODIFIED:20190417T095204Z
UID:1442-1555608600-1555621200@theblackbostonian.com
SUMMARY:Isabella Stewart Gardner : Third Thursdays
DESCRIPTION:Third Thursdays: S.O.U.L.S.\n(Sharing Our Unique Life Stories) \nIsabella was a genius in expressing her story through art—now it’s your turn. From music and spoken word to the Senegalese tradition of sabar\, join our partner BAMS Fest in amplifying storytelling through the lens of creativity.
URL:https://theblackbostonian.com/calendar/isabella-stewart-gardner-third-thursdays/
END:VEVENT
BEGIN:VEVENT
DTSTART;TZID=UTC:20190415T190000
DTEND;TZID=UTC:20190415T233000
DTSTAMP:20260424T064725
CREATED:20190410T033838Z
LAST-MODIFIED:20190410T035019Z
UID:1417-1555354800-1555371000@theblackbostonian.com
SUMMARY:Lil Baby- The New Generation Tour
DESCRIPTION:Upcoming artists City Girls and Blue Face will be performing at the House of Blues Boston with headlining artist Lil Baby!
URL:https://theblackbostonian.com/calendar/lil-baby-the-new-generation-tour/
LOCATION:House of Blues Boston
END:VEVENT
BEGIN:VEVENT
DTSTART;TZID=UTC:20190414T180000
DTEND;TZID=UTC:20190414T220000
DTSTAMP:20260424T064725
CREATED:20190410T035610Z
LAST-MODIFIED:20190410T035610Z
UID:1422-1555264800-1555279200@theblackbostonian.com
SUMMARY:Day One Boston
DESCRIPTION:A curated once a month party at Boston’s Bodega Canal. A come as you are no cover fete\, tunes by @djrealp!
URL:https://theblackbostonian.com/calendar/day-one-boston/
ATTACH;FMTTYPE=image/jpeg:https://theblackbostonian.com/wp-content/uploads/2019/04/day-one.jpg
END:VEVENT
BEGIN:VEVENT
DTSTART;TZID=UTC:20190414T163000
DTEND;TZID=UTC:20190414T220000
DTSTAMP:20260424T064725
CREATED:20190410T034821Z
LAST-MODIFIED:20190410T034821Z
UID:1419-1555259400-1555279200@theblackbostonian.com
SUMMARY:The Wave Boston : Going Global
DESCRIPTION:The Wave Boston returns to @Middlesexlounge this Sunday April 14th. This month The Wave welcomes two Dj’s that are experts in bringing the tropical and global heat to the set  @uprrotandy and @riobamba_dj. Get your tickets\, early arrival highly suggested.
URL:https://theblackbostonian.com/calendar/the-wave-boston-going-global/
ATTACH;FMTTYPE=image/jpeg:https://theblackbostonian.com/wp-content/uploads/2019/04/wave.jpg
END:VEVENT
BEGIN:VEVENT
DTSTART;TZID=UTC:20190413T193000
DTEND;TZID=UTC:20190413T210000
DTSTAMP:20260424T064725
CREATED:20190410T032606Z
LAST-MODIFIED:20190410T035204Z
UID:1414-1555183800-1555189200@theblackbostonian.com
SUMMARY:Ultimate Make up and Self Love Slumber Party
DESCRIPTION:Calling all Glowing Goddesses to join AndeleLara\, CEO of Lara Beauty\, Model\, Beauty/Fashion and Lifestyle influencer\, and founder of Grow&Glow for an amazing online makeup slumper party! \nPull out your robes and PJ’s! Andele will be covering her techniques to a flawless makeup application\, tips and tricks to prevent flashback in your photos and how to finesse your pictures on the gram! \nThis class is Beginner Friendly (you can start where you are\, Andele is here to help you with what you have while providing suggestions to enhance your already beautiful face + magnificent features) \nNote: This is an online makeup class and can be accessed all over the WORLD!
URL:https://theblackbostonian.com/calendar/ultimate-make-up-and-self-love-slumber-party/
END:VEVENT
BEGIN:VEVENT
DTSTART;TZID=UTC:20190407T120000
DTEND;TZID=UTC:20190407T170000
DTSTAMP:20260424T064725
CREATED:20190402T060851Z
LAST-MODIFIED:20190402T061443Z
UID:1343-1554638400-1554656400@theblackbostonian.com
SUMMARY:Brunch. Vibe. Drink.
DESCRIPTION:The Next Brunch Wave To Hit Boston Has Arrived. Come Turn Up With The BVD Crew. FOOD + DRINK + HOOKAH + TUNES = VIBES \nBrunch by @SamSpotCatering \nMusic by @DJAMERO
URL:https://theblackbostonian.com/calendar/brunch-vibe-drink/
END:VEVENT
BEGIN:VEVENT
DTSTART;TZID=UTC:20190405T183000
DTEND;TZID=UTC:20190405T203000
DTSTAMP:20260424T064725
CREATED:20190402T232240Z
LAST-MODIFIED:20190403T020542Z
UID:1347-1554489000-1554496200@theblackbostonian.com
SUMMARY:Hustle + Motivate
DESCRIPTION:A Celebration of the life and Spirit of Nipsey Hustle hosted by @blackmarketdudley
URL:https://theblackbostonian.com/calendar/hustle-motivate/
LOCATION:Black Market\, 2136 Washington St\, Roxbury\, MA\, United States
END:VEVENT
BEGIN:VEVENT
DTSTART;TZID=UTC:20190405T080000
DTEND;TZID=UTC:20190407T170000
DTSTAMP:20260424T064725
CREATED:20190330T181524Z
LAST-MODIFIED:20190330T181524Z
UID:1231-1554451200-1554656400@theblackbostonian.com
SUMMARY:15th Annual Black Policy Conference
DESCRIPTION:The student-led Black Policy Conference is a leading policy driven forum aimed to address the issues affecting Black communities. The conference provides an opportunity for the convergence of the world’s greatest minds and practitioners with the hope and intent of finding sustainable solutions for issues facing Black communities.
URL:https://theblackbostonian.com/calendar/15th-annual-black-policy-conference/
LOCATION:Harvard Kennedy School
END:VEVENT
BEGIN:VEVENT
DTSTART;TZID=UTC:20190402T193000
DTEND;TZID=UTC:20190402T233000
DTSTAMP:20260424T064725
CREATED:20190330T181115Z
LAST-MODIFIED:20190330T181115Z
UID:1228-1554233400-1554247800@theblackbostonian.com
SUMMARY:Tori Kelly Concert
DESCRIPTION:Victoria Loren “Tori” Kelly is an American singer songwriter\, who has built up a reputation as an artist in her own right\, releasing video covers and originals on YouTube.
URL:https://theblackbostonian.com/calendar/tori-kelly-concert/
LOCATION:House of Blues Boston
END:VEVENT
BEGIN:VEVENT
DTSTART;TZID=UTC:20190206T180000
DTEND;TZID=UTC:20190206T210000
DTSTAMP:20260424T064725
CREATED:20190124T084609Z
LAST-MODIFIED:20190124T084623Z
UID:1112-1549476000-1549486800@theblackbostonian.com
SUMMARY:Hella Black Mixtape
DESCRIPTION:During February\, BCA presents its first ever\, live mixtape featuring work by local singers\, songwriters\, dancers\, storytellers and performing artists to kick off Black History Month.
URL:https://theblackbostonian.com/calendar/hella-black/
END:VEVENT
BEGIN:VEVENT
DTSTART;TZID=UTC:20190127T110000
DTEND;TZID=UTC:20190127T170000
DTSTAMP:20260424T064725
CREATED:20190124T081009Z
LAST-MODIFIED:20190124T081009Z
UID:1106-1548586800-1548608400@theblackbostonian.com
SUMMARY:Rhythm & Brunch
DESCRIPTION:The 2019 energy has been real! Keep it cooking and close the month with another episode of #RnBrunchBOS. It’s been far too long since their December brunch\, but many thanks to everyone that pulled up and gave their stamp of approval on our new location at 2Twenty2.
URL:https://theblackbostonian.com/calendar/rhythm-brunch-2/
LOCATION:2Twenty2
END:VEVENT
BEGIN:VEVENT
DTSTART;TZID=UTC:20190125T200000
DTEND;TZID=UTC:20190125T230000
DTSTAMP:20260424T064725
CREATED:20190124T082503Z
LAST-MODIFIED:20190124T082503Z
UID:1109-1548446400-1548457200@theblackbostonian.com
SUMMARY:BLACK Cotton Club
DESCRIPTION:Welcome to 2019 Fam! \nWe are thrilled to begin this year of in our Jammies jamming to GUYS and dope artists in the city! \nBlack Cotton Club is at it again\, ready to jam and vibe with you. Bring your boo\, friends\, family or just yourself and come ready to TAKE OFF YOUR COOL!
URL:https://theblackbostonian.com/calendar/black-cotton-club/
END:VEVENT
BEGIN:VEVENT
DTSTART;TZID=UTC:20181201T130000
DTEND;TZID=UTC:20181201T190000
DTSTAMP:20260424T064725
CREATED:20181111T033103Z
LAST-MODIFIED:20181111T033103Z
UID:1090-1543669200-1543690800@theblackbostonian.com
SUMMARY:Must Love Beards
DESCRIPTION:Created in January 2015 by I DON’T DO CLUBS founder Genese Jamilah\, MUST LOVE BEARDS is a national day party series for men who rock beards and women who can’t get enough of them. Women’s tickets are sold in advance to ensure the event is gender balanced. Men are allowed into the event for free\, beard or not.
URL:https://theblackbostonian.com/calendar/must-love-beards/
END:VEVENT
BEGIN:VEVENT
DTSTART;TZID=UTC:20181129T220000
DTEND;TZID=UTC:20181130T020000
DTSTAMP:20260424T064725
CREATED:20181111T033846Z
LAST-MODIFIED:20181111T033846Z
UID:1094-1543528800-1543543200@theblackbostonian.com
SUMMARY:A// Good
DESCRIPTION:Come as you are with the best vibes @ A// Good every last Thrusday of the month with DJ Slick Vick.
URL:https://theblackbostonian.com/calendar/a-good/
END:VEVENT
BEGIN:VEVENT
DTSTART;TZID=UTC:20181116T190000
DTEND;TZID=UTC:20181116T203000
DTSTAMP:20260424T064725
CREATED:20181111T033550Z
LAST-MODIFIED:20181111T033550Z
UID:1092-1542394800-1542400200@theblackbostonian.com
SUMMARY:Her by Bodega
DESCRIPTION:HER By Bodega: Women’s Voices in Contemporary Fashion Culture! \nJoin in next Friday for a great night filled with dynamic dialogue\, networking\, shopping\, music\, and so much more!
URL:https://theblackbostonian.com/calendar/her-by-bodega/
END:VEVENT
BEGIN:VEVENT
DTSTART;TZID=UTC:20180809T200000
DTEND;TZID=UTC:20180809T223000
DTSTAMP:20260424T064725
CREATED:20180806T195707Z
LAST-MODIFIED:20180806T195852Z
UID:996-1533844800-1533853800@theblackbostonian.com
SUMMARY:Trap Karaoke Comes to Boston
DESCRIPTION:TRAP Karaoke began in the fall of 2015 after Jason Mowatt\, a music festival organizer\, envisioned what he calls a “user-generated concert” experience\, placing fans at the center of the concert experience. \nThe result? A platform on top of music; a backdrop for life; a nexus into cultural participation\, personal empowerment\, cherished moments\, human connection\, and community! Please note this event is 18+
URL:https://theblackbostonian.com/calendar/trap-karaoke-comes-to-boston/
END:VEVENT
BEGIN:VEVENT
DTSTART;TZID=UTC:20180807T180000
DTEND;TZID=UTC:20180807T210000
DTSTAMP:20260424T064725
CREATED:20180806T195033Z
LAST-MODIFIED:20180806T195033Z
UID:993-1533664800-1533675600@theblackbostonian.com
SUMMARY:BYBP Trap Night
DESCRIPTION:Kick Off Boston;s Trap Week with BYBP. Come out on August 7th for some fun\,chill vibes..well as chill as it can get with trap as a soundtrack. Please RSVP.
URL:https://theblackbostonian.com/calendar/bybp-trap-night/
END:VEVENT
BEGIN:VEVENT
DTSTART;TZID=UTC:20180730T180000
DTEND;TZID=UTC:20180730T180000
DTSTAMP:20260424T064725
CREATED:20180724T054603Z
LAST-MODIFIED:20180724T054603Z
UID:978-1532973600-1532973600@theblackbostonian.com
SUMMARY:Views from the 6: After Work Social
DESCRIPTION:Back on the rooftop this Summer\, and this time we will be celebrating the 6 year anniversary of LiteWork Events! Join us in your most chic after work looks as we mix and mingle with exclusive access to the Revere Hotel Roof deck. Enjoy special craft cocktails with Boston’s urban young professionals as you lounge under the cabanas or take in the “views from the 6”! \nAlso feauturing special anniversary sangria sponsored by #TeamHennessy!
URL:https://theblackbostonian.com/calendar/views-from-the-6-after-work-social/
END:VEVENT
END:VCALENDAR