BEGIN:VCALENDAR
VERSION:2.0
PRODID:-//The Black Bostonian - ECPv6.15.20//NONSGML v1.0//EN
CALSCALE:GREGORIAN
METHOD:PUBLISH
X-WR-CALNAME:The Black Bostonian
X-ORIGINAL-URL:https://theblackbostonian.com
X-WR-CALDESC:Events for The Black Bostonian
REFRESH-INTERVAL;VALUE=DURATION:PT1H
X-Robots-Tag:noindex
X-PUBLISHED-TTL:PT1H
BEGIN:VTIMEZONE
TZID:UTC
BEGIN:STANDARD
TZOFFSETFROM:+0000
TZOFFSETTO:+0000
TZNAME:UTC
DTSTART:20190101T000000
END:STANDARD
END:VTIMEZONE
BEGIN:VEVENT
DTSTART;TZID=UTC:20201012T131500
DTEND;TZID=UTC:20201012T143000
DTSTAMP:20260423T184529
CREATED:20201008T005126Z
LAST-MODIFIED:20201008T005126Z
UID:2011-1602508500-1602513000@theblackbostonian.com
SUMMARY:Bootcamp x Black Owned
DESCRIPTION:
URL:https://theblackbostonian.com/calendar/bootcamp-x-black-owned-2/
END:VEVENT
BEGIN:VEVENT
DTSTART;TZID=UTC:20201010T100000
DTEND;TZID=UTC:20201010T180000
DTSTAMP:20260423T184529
CREATED:20200928T041802Z
LAST-MODIFIED:20200930T042736Z
UID:1977-1602324000-1602352800@theblackbostonian.com
SUMMARY:#Savor The Square
DESCRIPTION:
URL:https://theblackbostonian.com/calendar/savor-the-square/
END:VEVENT
BEGIN:VEVENT
DTSTART;TZID=UTC:20201006T080000
DTEND;TZID=UTC:20201008T170000
DTSTAMP:20260423T184529
CREATED:20200930T044058Z
LAST-MODIFIED:20200930T044058Z
UID:1981-1601971200-1602176400@theblackbostonian.com
SUMMARY:2020  Women Business Leaders Conference
DESCRIPTION:
URL:https://theblackbostonian.com/calendar/2020-women-business-leaders-conference/
END:VEVENT
BEGIN:VEVENT
DTSTART;TZID=UTC:20201004T110000
DTEND;TZID=UTC:20201004T120000
DTSTAMP:20260423T184529
CREATED:20200930T185020Z
LAST-MODIFIED:20200930T221546Z
UID:1995-1601809200-1601812800@theblackbostonian.com
SUMMARY:Bootcamp X Black Owned
DESCRIPTION:
URL:https://theblackbostonian.com/calendar/bootcamp-x-black-owned/
END:VEVENT
BEGIN:VEVENT
DTSTART;TZID=UTC:20201003T110000
DTEND;TZID=UTC:20201003T160000
DTSTAMP:20260423T184529
CREATED:20200930T035433Z
LAST-MODIFIED:20200930T035433Z
UID:1968-1601722800-1601740800@theblackbostonian.com
SUMMARY:Black Owned Bos. Market
DESCRIPTION:
URL:https://theblackbostonian.com/calendar/black-owned-bos-market/
END:VEVENT
BEGIN:VEVENT
DTSTART;TZID=UTC:20201001T080000
DTEND;TZID=UTC:20201031T170000
DTSTAMP:20260423T184529
CREATED:20200930T041054Z
LAST-MODIFIED:20200930T041054Z
UID:1974-1601539200-1604163600@theblackbostonian.com
SUMMARY:MFA: Murals for the Movement
DESCRIPTION:
URL:https://theblackbostonian.com/calendar/mfa-murals-for-the-movement/
END:VEVENT
BEGIN:VEVENT
DTSTART;TZID=UTC:20200620T140000
DTEND;TZID=UTC:20200620T190000
DTSTAMP:20260423T184529
CREATED:20200618T234842Z
LAST-MODIFIED:20200618T234842Z
UID:1934-1592661600-1592679600@theblackbostonian.com
SUMMARY:Virtual Juneteenth Brunch
DESCRIPTION:
URL:https://theblackbostonian.com/calendar/virtual-juneteenth-brunch/
END:VEVENT
BEGIN:VEVENT
DTSTART;TZID=UTC:20200619T180000
DTEND;TZID=UTC:20200619T193000
DTSTAMP:20260423T184529
CREATED:20200618T173208Z
LAST-MODIFIED:20200618T173208Z
UID:1922-1592589600-1592595000@theblackbostonian.com
SUMMARY:Merrimack Valley Black and Brown Voices: Open Mic
DESCRIPTION:
URL:https://theblackbostonian.com/calendar/merrimack-valley-black-and-brown-voices-open-mic/
END:VEVENT
BEGIN:VEVENT
DTSTART;TZID=UTC:20200619T170000
DTEND;TZID=UTC:20200619T200000
DTSTAMP:20260423T184529
CREATED:20200618T172859Z
LAST-MODIFIED:20200618T172859Z
UID:1919-1592586000-1592596800@theblackbostonian.com
SUMMARY:Mass Action Musical Speakout
DESCRIPTION:
URL:https://theblackbostonian.com/calendar/mass-action-musical-speakout/
END:VEVENT
BEGIN:VEVENT
DTSTART;TZID=UTC:20200619T160000
DTEND;TZID=UTC:20200619T190000
DTSTAMP:20260423T184529
CREATED:20200618T172524Z
LAST-MODIFIED:20200618T172524Z
UID:1916-1592582400-1592593200@theblackbostonian.com
SUMMARY:Juneteenth MFA Celebration
DESCRIPTION:
URL:https://theblackbostonian.com/calendar/juneteenth-mfa-celebration/
END:VEVENT
BEGIN:VEVENT
DTSTART;TZID=UTC:20200619T160000
DTEND;TZID=UTC:20200619T180000
DTSTAMP:20260423T184529
CREATED:20200618T173553Z
LAST-MODIFIED:20200618T173553Z
UID:1925-1592582400-1592589600@theblackbostonian.com
SUMMARY:Community Stand out in Grove Hall
DESCRIPTION:
URL:https://theblackbostonian.com/calendar/community-stand-out-in-grove-hall/
END:VEVENT
BEGIN:VEVENT
DTSTART;TZID=UTC:20200619T130000
DTEND;TZID=UTC:20200619T173000
DTSTAMP:20260423T184529
CREATED:20200619T173823Z
LAST-MODIFIED:20200618T225145Z
UID:1928-1592571600-1592587800@theblackbostonian.com
SUMMARY:NAACP #SayMyName Memorial Ground
DESCRIPTION:
URL:https://theblackbostonian.com/calendar/naacp-saymyname-memorial-ground/
END:VEVENT
BEGIN:VEVENT
DTSTART;TZID=UTC:20200619T130000
DTEND;TZID=UTC:20200619T173000
DTSTAMP:20260423T184529
CREATED:20200618T225401Z
LAST-MODIFIED:20200618T225401Z
UID:1932-1592571600-1592587800@theblackbostonian.com
SUMMARY:NAACP #SayMyName Memorial Ground
DESCRIPTION:
URL:https://theblackbostonian.com/calendar/naacp-saymyname-memorial-ground-2/
END:VEVENT
BEGIN:VEVENT
DTSTART;TZID=UTC:20200328T160000
DTEND;TZID=UTC:20200328T210000
DTSTAMP:20260423T184529
CREATED:20200306T083822Z
LAST-MODIFIED:20200306T083822Z
UID:1863-1585411200-1585429200@theblackbostonian.com
SUMMARY:Must Love Beards : Boston
DESCRIPTION:
URL:https://theblackbostonian.com/calendar/must-love-beards-boston/
END:VEVENT
BEGIN:VEVENT
DTSTART;TZID=UTC:20200321T160000
DTEND;TZID=UTC:20200321T200000
DTSTAMP:20260423T184529
CREATED:20200306T094009Z
LAST-MODIFIED:20200306T094056Z
UID:1869-1584806400-1584820800@theblackbostonian.com
SUMMARY:Profressh n Chill
DESCRIPTION:
URL:https://theblackbostonian.com/calendar/profresh-n-chill/
END:VEVENT
BEGIN:VEVENT
DTSTART;TZID=UTC:20200321T123000
DTEND;TZID=UTC:20200321T153000
DTSTAMP:20260423T184529
CREATED:20200306T094406Z
LAST-MODIFIED:20200306T094406Z
UID:1873-1584793800-1584804600@theblackbostonian.com
SUMMARY:Oh\, You Don't Brunch ?
DESCRIPTION:
URL:https://theblackbostonian.com/calendar/oh-you-dont-brunch/
END:VEVENT
BEGIN:VEVENT
DTSTART;TZID=UTC:20200321T090000
DTEND;TZID=UTC:20200321T140000
DTSTAMP:20260423T184529
CREATED:20200306T094838Z
LAST-MODIFIED:20200306T094838Z
UID:1876-1584781200-1584799200@theblackbostonian.com
SUMMARY:BLSA: Breaking Barriers Conference
DESCRIPTION:Boston College Law School’s Black Law Students Association is hosting their Third Annual Conference on Saturday\, March 21st from 9 am to 2:00 pm at Boston College Law School. Our intentions are to bring together practitioners\, legal scholars\, and other academics from throughout the Boston area and explore key social and legal issues that affect the African-American community in order to encourage responsible lawyering to attack systemic racism and systems of oppressive domination. This year’s theme is “Breaking Barriers and Changing the Narrative.”
URL:https://theblackbostonian.com/calendar/blsa-breaking-barriers-conference/
END:VEVENT
BEGIN:VEVENT
DTSTART;TZID=UTC:20200319T180000
DTEND;TZID=UTC:20200319T200000
DTSTAMP:20260423T184529
CREATED:20200306T095213Z
LAST-MODIFIED:20200306T095233Z
UID:1879-1584640800-1584648000@theblackbostonian.com
SUMMARY:Money Moves II
DESCRIPTION:The goal of this event is to provide information on financial moves millennials should start considering in order to build a sustainable lifestyle. \nMoney Moves II will be held: \nThursday\, March 19\, 2020\, from 6-8pm \nWeWork Central Square | 625 Massachusetts Ave\, Cambridge\, MA
URL:https://theblackbostonian.com/calendar/money-moves-ii/
END:VEVENT
BEGIN:VEVENT
DTSTART;TZID=UTC:20200315T140000
DTEND;TZID=UTC:20200315T190000
DTSTAMP:20260423T184529
CREATED:20200306T095832Z
LAST-MODIFIED:20200306T095832Z
UID:1883-1584280800-1584298800@theblackbostonian.com
SUMMARY:Prestige Day Party
DESCRIPTION:ONLY CHAMPIONS PRESENT:\nPRESTIGE\nMARCH 15TH | 2P – 7P\nThe Elevated Caribbean Day Party the Boston Area has been looking forward to!\nMusic – Drinks – Elevated Vibes
URL:https://theblackbostonian.com/calendar/prestige-day-party/
END:VEVENT
BEGIN:VEVENT
DTSTART;TZID=UTC:20200314T120000
DTEND;TZID=UTC:20200314T200000
DTSTAMP:20260423T184529
CREATED:20200306T101004Z
LAST-MODIFIED:20200306T101004Z
UID:1892-1584187200-1584216000@theblackbostonian.com
SUMMARY:Boston's Official Mega Bar Crawl
DESCRIPTION:
URL:https://theblackbostonian.com/calendar/bostons-official-mega-bar-crawl/
END:VEVENT
BEGIN:VEVENT
DTSTART;TZID=UTC:20200314T100000
DTEND;TZID=UTC:20200314T190000
DTSTAMP:20260423T184529
CREATED:20200306T100703Z
LAST-MODIFIED:20200306T100753Z
UID:1887-1584180000-1584212400@theblackbostonian.com
SUMMARY:Black Irish Vol. 4
DESCRIPTION:Year 4! Bigger\, smoother\, and more energy than all previous years combined. Join the Black Irish Pub Crawl Crew for our latest and greatest iteration of what is the go-to pub crawl for Black professionals over St. Patrick’s Day weekend! Last year\,  over 280 people joined for both the crawl and day party through the day.\nBar Crawl: 10AM – 3PM – Free RSVP\nBlack Irish Day Party: 3PM – 7PM – Ticket Purchase Required
URL:https://theblackbostonian.com/calendar/black-irish/
END:VEVENT
BEGIN:VEVENT
DTSTART;TZID=UTC:20200309T200000
DTEND;TZID=UTC:20200309T233000
DTSTAMP:20260423T184529
CREATED:20200306T101153Z
LAST-MODIFIED:20200306T101153Z
UID:1895-1583784000-1583796600@theblackbostonian.com
SUMMARY:Purple Heart Poetry
DESCRIPTION:
URL:https://theblackbostonian.com/calendar/purple-heart-poetry/
END:VEVENT
BEGIN:VEVENT
DTSTART;TZID=UTC:20200308T170000
DTEND;TZID=UTC:20200308T190000
DTSTAMP:20260423T184529
CREATED:20200306T093704Z
LAST-MODIFIED:20200306T093704Z
UID:1866-1583686800-1583694000@theblackbostonian.com
SUMMARY:Black Men March Meeting
DESCRIPTION:
URL:https://theblackbostonian.com/calendar/black-men-march-meeting/
END:VEVENT
BEGIN:VEVENT
DTSTART;TZID=UTC:20200306T213000
DTEND;TZID=UTC:20200307T020000
DTSTAMP:20260423T184529
CREATED:20200306T082929Z
LAST-MODIFIED:20200306T082929Z
UID:1860-1583530200-1583546400@theblackbostonian.com
SUMMARY:First Friday
DESCRIPTION:
URL:https://theblackbostonian.com/calendar/first-friday/
END:VEVENT
BEGIN:VEVENT
DTSTART;TZID=UTC:20200227T180000
DTEND;TZID=UTC:20200227T200000
DTSTAMP:20260423T184529
CREATED:20200220T012323Z
LAST-MODIFIED:20200220T012323Z
UID:1813-1582826400-1582833600@theblackbostonian.com
SUMMARY:How Can Justice be Achieved For All?
DESCRIPTION:
URL:https://theblackbostonian.com/calendar/how-can-justice-be-achieved-for-all/
END:VEVENT
BEGIN:VEVENT
DTSTART;TZID=UTC:20200226T180000
DTEND;TZID=UTC:20200226T220000
DTSTAMP:20260423T184529
CREATED:20200220T012833Z
LAST-MODIFIED:20200221T043219Z
UID:1816-1582740000-1582754400@theblackbostonian.com
SUMMARY:Toast: Celebration of Black Excellence in Tech
DESCRIPTION:
URL:https://theblackbostonian.com/calendar/toast-celebration-of-black-excellence-in-tech/
END:VEVENT
BEGIN:VEVENT
DTSTART;TZID=UTC:20200225T190000
DTEND;TZID=UTC:20200225T213000
DTSTAMP:20260423T184529
CREATED:20200220T014427Z
LAST-MODIFIED:20200220T014427Z
UID:1822-1582657200-1582666200@theblackbostonian.com
SUMMARY:Blacktology Trivia Night
DESCRIPTION:Join in for D7’s Blacktology Trivia Night! \nGather your crew\, or join a team at the bar. \nIt is always a good time!
URL:https://theblackbostonian.com/calendar/blacktology-trivia-night/
END:VEVENT
BEGIN:VEVENT
DTSTART;TZID=UTC:20200223T090000
DTEND;TZID=UTC:20200223T110000
DTSTAMP:20260423T184529
CREATED:20200221T225843Z
LAST-MODIFIED:20200221T230107Z
UID:1831-1582448400-1582455600@theblackbostonian.com
SUMMARY:Kappa Alpha Psi- Boston Alumni:Sunday of Hope
DESCRIPTION:Join the men of Kappa Alpha Psi- Boston Alumni Chapter : \nSunday Of Hope Service at New Life Christian Church to aid in taking a stand against cancer.
URL:https://theblackbostonian.com/calendar/kappa-alpha-psi-boston-alumnisunday-of-hope/
END:VEVENT
BEGIN:VEVENT
DTSTART;TZID=UTC:20200222T150000
DTEND;TZID=UTC:20200222T200000
DTSTAMP:20260423T184529
CREATED:20200220T013906Z
LAST-MODIFIED:20200220T013906Z
UID:1819-1582383600-1582401600@theblackbostonian.com
SUMMARY:Coming to Wakanda
DESCRIPTION:
URL:https://theblackbostonian.com/calendar/coming-to-wakanda/
END:VEVENT
BEGIN:VEVENT
DTSTART;TZID=UTC:20200222T140000
DTEND;TZID=UTC:20200222T160000
DTSTAMP:20260423T184529
CREATED:20200220T053457Z
LAST-MODIFIED:20200220T053530Z
UID:1825-1582380000-1582387200@theblackbostonian.com
SUMMARY:Unnamed Crew X TrillFit Celebrating BlackOwned
DESCRIPTION:
URL:https://theblackbostonian.com/calendar/unnamed-crew-x-trillfit-celebrating-blackowned/
END:VEVENT
END:VCALENDAR