BEGIN:VCALENDAR
VERSION:2.0
PRODID:-//The Black Bostonian - ECPv6.15.20//NONSGML v1.0//EN
CALSCALE:GREGORIAN
METHOD:PUBLISH
X-ORIGINAL-URL:https://theblackbostonian.com
X-WR-CALDESC:Events for The Black Bostonian
REFRESH-INTERVAL;VALUE=DURATION:PT1H
X-Robots-Tag:noindex
X-PUBLISHED-TTL:PT1H
BEGIN:VTIMEZONE
TZID:UTC
BEGIN:STANDARD
TZOFFSETFROM:+0000
TZOFFSETTO:+0000
TZNAME:UTC
DTSTART:20180101T000000
END:STANDARD
END:VTIMEZONE
BEGIN:VEVENT
DTSTART;TZID=UTC:20200227T180000
DTEND;TZID=UTC:20200227T200000
DTSTAMP:20260423T214439
CREATED:20200220T012323Z
LAST-MODIFIED:20200220T012323Z
UID:1813-1582826400-1582833600@theblackbostonian.com
SUMMARY:How Can Justice be Achieved For All?
DESCRIPTION:
URL:https://theblackbostonian.com/calendar/how-can-justice-be-achieved-for-all/
END:VEVENT
BEGIN:VEVENT
DTSTART;TZID=UTC:20200226T180000
DTEND;TZID=UTC:20200226T220000
DTSTAMP:20260423T214439
CREATED:20200220T012833Z
LAST-MODIFIED:20200221T043219Z
UID:1816-1582740000-1582754400@theblackbostonian.com
SUMMARY:Toast: Celebration of Black Excellence in Tech
DESCRIPTION:
URL:https://theblackbostonian.com/calendar/toast-celebration-of-black-excellence-in-tech/
END:VEVENT
BEGIN:VEVENT
DTSTART;TZID=UTC:20200225T190000
DTEND;TZID=UTC:20200225T213000
DTSTAMP:20260423T214439
CREATED:20200220T014427Z
LAST-MODIFIED:20200220T014427Z
UID:1822-1582657200-1582666200@theblackbostonian.com
SUMMARY:Blacktology Trivia Night
DESCRIPTION:Join in for D7’s Blacktology Trivia Night! \nGather your crew\, or join a team at the bar. \nIt is always a good time!
URL:https://theblackbostonian.com/calendar/blacktology-trivia-night/
END:VEVENT
BEGIN:VEVENT
DTSTART;TZID=UTC:20200223T090000
DTEND;TZID=UTC:20200223T110000
DTSTAMP:20260423T214439
CREATED:20200221T225843Z
LAST-MODIFIED:20200221T230107Z
UID:1831-1582448400-1582455600@theblackbostonian.com
SUMMARY:Kappa Alpha Psi- Boston Alumni:Sunday of Hope
DESCRIPTION:Join the men of Kappa Alpha Psi- Boston Alumni Chapter : \nSunday Of Hope Service at New Life Christian Church to aid in taking a stand against cancer.
URL:https://theblackbostonian.com/calendar/kappa-alpha-psi-boston-alumnisunday-of-hope/
END:VEVENT
BEGIN:VEVENT
DTSTART;TZID=UTC:20200222T150000
DTEND;TZID=UTC:20200222T200000
DTSTAMP:20260423T214439
CREATED:20200220T013906Z
LAST-MODIFIED:20200220T013906Z
UID:1819-1582383600-1582401600@theblackbostonian.com
SUMMARY:Coming to Wakanda
DESCRIPTION:
URL:https://theblackbostonian.com/calendar/coming-to-wakanda/
END:VEVENT
BEGIN:VEVENT
DTSTART;TZID=UTC:20200222T140000
DTEND;TZID=UTC:20200222T160000
DTSTAMP:20260423T214439
CREATED:20200220T053457Z
LAST-MODIFIED:20200220T053530Z
UID:1825-1582380000-1582387200@theblackbostonian.com
SUMMARY:Unnamed Crew X TrillFit Celebrating BlackOwned
DESCRIPTION:
URL:https://theblackbostonian.com/calendar/unnamed-crew-x-trillfit-celebrating-blackowned/
END:VEVENT
BEGIN:VEVENT
DTSTART;TZID=UTC:20200222T130000
DTEND;TZID=UTC:20200222T140000
DTSTAMP:20260423T214439
CREATED:20200221T230033Z
LAST-MODIFIED:20200221T230033Z
UID:1834-1582376400-1582380000@theblackbostonian.com
SUMMARY:AfrobeatFit BOS
DESCRIPTION:
URL:https://theblackbostonian.com/calendar/afrobeatfit-bos/
END:VEVENT
BEGIN:VEVENT
DTSTART;TZID=UTC:20200221T193000
DTEND;TZID=UTC:20200221T213000
DTSTAMP:20260423T214439
CREATED:20200221T230636Z
LAST-MODIFIED:20200221T230636Z
UID:1837-1582313400-1582320600@theblackbostonian.com
SUMMARY:Yvonne Orji @ The Wilbur Theater
DESCRIPTION:
URL:https://theblackbostonian.com/calendar/yvonne-orji-the-wilbur-theater/
END:VEVENT
BEGIN:VEVENT
DTSTART;TZID=UTC:20200216T190000
DTEND;TZID=UTC:20200216T233000
DTSTAMP:20260423T214439
CREATED:20200214T212852Z
LAST-MODIFIED:20200214T212852Z
UID:1801-1581879600-1581895800@theblackbostonian.com
SUMMARY:Hennessy & RnB
DESCRIPTION:
URL:https://theblackbostonian.com/calendar/hennessy-rnb/
END:VEVENT
BEGIN:VEVENT
DTSTART;TZID=UTC:20200216T163000
DTEND;TZID=UTC:20200216T220000
DTSTAMP:20260423T214439
CREATED:20200206T054032Z
LAST-MODIFIED:20200206T054032Z
UID:1785-1581870600-1581890400@theblackbostonian.com
SUMMARY:The Wave Boston: Lover's Rock Edition
DESCRIPTION:
URL:https://theblackbostonian.com/calendar/the-wave-boston-lovers-rock-edition/
END:VEVENT
BEGIN:VEVENT
DTSTART;TZID=UTC:20200215T190000
DTEND;TZID=UTC:20200215T210000
DTSTAMP:20260423T214439
CREATED:20200206T054444Z
LAST-MODIFIED:20200206T054444Z
UID:1788-1581793200-1581800400@theblackbostonian.com
SUMMARY:Our Story! Celebrating the African American Experience
DESCRIPTION:
URL:https://theblackbostonian.com/calendar/our-story-celebrating-the-african-american-experience/
END:VEVENT
BEGIN:VEVENT
DTSTART;TZID=UTC:20200215T180000
DTEND;TZID=UTC:20200215T220000
DTSTAMP:20260423T214439
CREATED:20200214T210133Z
LAST-MODIFIED:20200214T215913Z
UID:1798-1581789600-1581804000@theblackbostonian.com
SUMMARY:SOUL & SANGRIA: Valentine's Day Edition
DESCRIPTION:
URL:https://theblackbostonian.com/calendar/soul-sangria-valentines-day-edition/
END:VEVENT
BEGIN:VEVENT
DTSTART;TZID=UTC:20200215T160000
DTEND;TZID=UTC:20200215T203000
DTSTAMP:20260423T214439
CREATED:20200214T215332Z
LAST-MODIFIED:20200214T215332Z
UID:1807-1581782400-1581798600@theblackbostonian.com
SUMMARY:Sip and Paint
DESCRIPTION:
URL:https://theblackbostonian.com/calendar/sip-and-paint/
END:VEVENT
BEGIN:VEVENT
DTSTART;TZID=UTC:20200214T230000
DTEND;TZID=UTC:20200215T020000
DTSTAMP:20260423T214439
CREATED:20200214T214444Z
LAST-MODIFIED:20200214T214444Z
UID:1804-1581721200-1581732000@theblackbostonian.com
SUMMARY:Afrolituation Boston
DESCRIPTION:Afrolituation is Los Angeles based African Experience party that celebrates Africa through its music\, fashion and food. Come and celebrate culture with great people\, awesome vibes accompanied with Suya and Facepainting! Excited to be bringing this awesome vibe to Harvard! \nDoors Open at 10:00pm \n\nEvent is free with RSVP till 11:00pm.
URL:https://theblackbostonian.com/calendar/afrolituation-boston/
END:VEVENT
BEGIN:VEVENT
DTSTART;TZID=UTC:20200214T220000
DTEND;TZID=UTC:20200215T020000
DTSTAMP:20260423T214439
CREATED:20200206T053826Z
LAST-MODIFIED:20200206T053826Z
UID:1782-1581717600-1581732000@theblackbostonian.com
SUMMARY:Feelings: A Valentine's Day Party
DESCRIPTION:For the last 3 years\, DJ Big Bear and YVNG PAVL have put together a mix around Valentines Day for the lover in every single one of you. This year they will be dropping another mix as well as hosting the first edition of Feelings on Valentine’s Day at @goodlifebar. Lineup and further details to follow. Stay tuned!
URL:https://theblackbostonian.com/calendar/feelings-a-valentines-day-party/
END:VEVENT
BEGIN:VEVENT
DTSTART;TZID=UTC:20200213T180000
DTEND;TZID=UTC:20200213T220000
DTSTAMP:20260423T214439
CREATED:20200206T053548Z
LAST-MODIFIED:20200206T053548Z
UID:1779-1581616800-1581631200@theblackbostonian.com
SUMMARY:The Tastemaker Social: Lovers & Friends Edition
DESCRIPTION:
URL:https://theblackbostonian.com/calendar/the-tastemaker-social-lovers-friends-edition/
END:VEVENT
BEGIN:VEVENT
DTSTART;TZID=UTC:20200207T170000
DTEND;TZID=UTC:20200207T210000
DTSTAMP:20260423T214439
CREATED:20200206T054733Z
LAST-MODIFIED:20200206T054733Z
UID:1791-1581094800-1581109200@theblackbostonian.com
SUMMARY:ICA : First Fridays
DESCRIPTION:
URL:https://theblackbostonian.com/calendar/ica-first-fridays-2/
END:VEVENT
BEGIN:VEVENT
DTSTART;TZID=UTC:20190825T140000
DTEND;TZID=UTC:20190825T190000
DTSTAMP:20260423T214439
CREATED:20190813T182228Z
LAST-MODIFIED:20190813T182228Z
UID:1742-1566741600-1566759600@theblackbostonian.com
SUMMARY:.tribe Beats n Vibes Day Party
DESCRIPTION:
URL:https://theblackbostonian.com/calendar/tribe-beats-n-vibes-day-party/
END:VEVENT
BEGIN:VEVENT
DTSTART;TZID=UTC:20190824T150000
DTEND;TZID=UTC:20190824T200000
DTSTAMP:20260423T214439
CREATED:20190813T182604Z
LAST-MODIFIED:20190813T182604Z
UID:1745-1566658800-1566676800@theblackbostonian.com
SUMMARY:The B-Sidez
DESCRIPTION:
URL:https://theblackbostonian.com/calendar/the-b-sidez/
END:VEVENT
BEGIN:VEVENT
DTSTART;TZID=UTC:20190818T140000
DTEND;TZID=UTC:20190818T180000
DTSTAMP:20260423T214439
CREATED:20190802T173459Z
LAST-MODIFIED:20190813T183409Z
UID:1682-1566136800-1566151200@theblackbostonian.com
SUMMARY:After Brunch Connection
DESCRIPTION:  \nClose off your weekend by making connections with the dopest and hardworking millennials in the state in Cambridge’s hidden gem rooftop! \nSecure the bag by making connections while sipping mimosa at The Sinclair.
URL:https://theblackbostonian.com/calendar/after-brunch-connection/
END:VEVENT
BEGIN:VEVENT
DTSTART;TZID=UTC:20190818T110000
DTEND;TZID=UTC:20190818T180000
DTSTAMP:20260423T214439
CREATED:20190813T012543Z
LAST-MODIFIED:20190813T012543Z
UID:1736-1566126000-1566151200@theblackbostonian.com
SUMMARY:Cambridge Food Truck Festival
DESCRIPTION:
URL:https://theblackbostonian.com/calendar/cambridge-food-truck-festival/
END:VEVENT
BEGIN:VEVENT
DTSTART;TZID=UTC:20190817T180000
DTEND;TZID=UTC:20190817T220000
DTSTAMP:20260423T214439
CREATED:20190813T012803Z
LAST-MODIFIED:20190813T012803Z
UID:1739-1566064800-1566079200@theblackbostonian.com
SUMMARY:Elevate
DESCRIPTION:
URL:https://theblackbostonian.com/calendar/elevate/
END:VEVENT
BEGIN:VEVENT
DTSTART;TZID=UTC:20190817T160000
DTEND;TZID=UTC:20190817T210000
DTSTAMP:20260423T214439
CREATED:20190813T003425Z
LAST-MODIFIED:20190813T003425Z
UID:1727-1566057600-1566075600@theblackbostonian.com
SUMMARY:Afropolis
DESCRIPTION:
URL:https://theblackbostonian.com/calendar/afropolis/
END:VEVENT
BEGIN:VEVENT
DTSTART;TZID=UTC:20190817T130000
DTEND;TZID=UTC:20190817T180000
DTSTAMP:20260423T214439
CREATED:20190813T012126Z
LAST-MODIFIED:20190813T012126Z
UID:1733-1566046800-1566064800@theblackbostonian.com
SUMMARY:DSNI: Multicultural Festival
DESCRIPTION:
URL:https://theblackbostonian.com/calendar/dsni-multicultural-festival/
END:VEVENT
BEGIN:VEVENT
DTSTART;TZID=UTC:20190814T180000
DTEND;TZID=UTC:20190814T210000
DTSTAMP:20260423T214439
CREATED:20190813T010830Z
LAST-MODIFIED:20190813T010830Z
UID:1730-1565805600-1565816400@theblackbostonian.com
SUMMARY:Network after Work
DESCRIPTION:
URL:https://theblackbostonian.com/calendar/network-after-work/
END:VEVENT
BEGIN:VEVENT
DTSTART;TZID=UTC:20190813T180000
DTEND;TZID=UTC:20190813T220000
DTSTAMP:20260423T214439
CREATED:20190802T183604Z
LAST-MODIFIED:20190802T183604Z
UID:1706-1565719200-1565733600@theblackbostonian.com
SUMMARY:Taste Maker Social
DESCRIPTION:
URL:https://theblackbostonian.com/calendar/taste-maker-social/
END:VEVENT
BEGIN:VEVENT
DTSTART;TZID=UTC:20190810T130000
DTEND;TZID=UTC:20190810T190000
DTSTAMP:20260423T214439
CREATED:20190807T210244Z
LAST-MODIFIED:20190807T210244Z
UID:1716-1565442000-1565463600@theblackbostonian.com
SUMMARY:The Luau
DESCRIPTION:
URL:https://theblackbostonian.com/calendar/the-luau/
END:VEVENT
BEGIN:VEVENT
DTSTART;TZID=UTC:20190810T120000
DTEND;TZID=UTC:20190810T150000
DTSTAMP:20260423T214439
CREATED:20190802T183251Z
LAST-MODIFIED:20190802T183251Z
UID:1703-1565438400-1565449200@theblackbostonian.com
SUMMARY:Queens Dinner Brunch
DESCRIPTION:
URL:https://theblackbostonian.com/calendar/queens-dinner-brunch/
END:VEVENT
BEGIN:VEVENT
DTSTART;TZID=UTC:20190809T210000
DTEND;TZID=UTC:20190810T010000
DTSTAMP:20260423T214439
CREATED:20190810T011201Z
LAST-MODIFIED:20190810T011201Z
UID:1723-1565384400-1565398800@theblackbostonian.com
SUMMARY:AfroSummer: Vibes at the Shrine
DESCRIPTION:
URL:https://theblackbostonian.com/calendar/afrosummer-vibes-at-the-shrine/
END:VEVENT
BEGIN:VEVENT
DTSTART;TZID=UTC:20190808T180000
DTEND;TZID=UTC:20190808T220000
DTSTAMP:20260423T214439
CREATED:20190807T210144Z
LAST-MODIFIED:20190807T210144Z
UID:1713-1565287200-1565301600@theblackbostonian.com
SUMMARY:The Break Room
DESCRIPTION:
URL:https://theblackbostonian.com/calendar/the-break-room-3/
END:VEVENT
END:VCALENDAR